BEGIN:VCALENDAR
VERSION:2.0
PRODID:-//Whidbey Improv - ECPv6.15.16//NONSGML v1.0//EN
CALSCALE:GREGORIAN
METHOD:PUBLISH
X-ORIGINAL-URL:https://whidbeyimprov.org
X-WR-CALDESC:Events for Whidbey Improv
REFRESH-INTERVAL;VALUE=DURATION:PT1H
X-Robots-Tag:noindex
X-PUBLISHED-TTL:PT1H
BEGIN:VTIMEZONE
TZID:America/Los_Angeles
BEGIN:DAYLIGHT
TZOFFSETFROM:-0800
TZOFFSETTO:-0700
TZNAME:PDT
DTSTART:20230312T100000
END:DAYLIGHT
BEGIN:STANDARD
TZOFFSETFROM:-0700
TZOFFSETTO:-0800
TZNAME:PST
DTSTART:20231105T090000
END:STANDARD
BEGIN:DAYLIGHT
TZOFFSETFROM:-0800
TZOFFSETTO:-0700
TZNAME:PDT
DTSTART:20240310T100000
END:DAYLIGHT
BEGIN:STANDARD
TZOFFSETFROM:-0700
TZOFFSETTO:-0800
TZNAME:PST
DTSTART:20241103T090000
END:STANDARD
BEGIN:DAYLIGHT
TZOFFSETFROM:-0800
TZOFFSETTO:-0700
TZNAME:PDT
DTSTART:20250309T100000
END:DAYLIGHT
BEGIN:STANDARD
TZOFFSETFROM:-0700
TZOFFSETTO:-0800
TZNAME:PST
DTSTART:20251102T090000
END:STANDARD
END:VTIMEZONE
BEGIN:VEVENT
DTSTART;TZID=America/Los_Angeles:20241003T193000
DTEND;TZID=America/Los_Angeles:20241003T210000
DTSTAMP:20260423T020043
CREATED:20240914T191813Z
LAST-MODIFIED:20240914T202659Z
UID:197-1727983800-1727989200@whidbeyimprov.org
SUMMARY:Musical Improv 7:30 - 9 pm Showcase
DESCRIPTION:Welcome to Musical Improv at the Black Box Theater. We will have an amazing mix of musical short and long form for you. Everything made up\, on the spot from your suggestions! the night will start with musical short form\, and progress to a broadway musical style  show. Join us for an amazing evening of fun!!
URL:https://whidbeyimprov.org/event/musical-improv-730-9-pm-short-form-show/
LOCATION:OutCast Black Box Theater\, 819 Camano Ave.\, Langley\, WA\, 98260\, United States
CATEGORIES:Shows
ORGANIZER;CN="Carol Dean":MAILTO:info@whidbeyimprov.org
END:VEVENT
BEGIN:VEVENT
DTSTART;TZID=America/Los_Angeles:20241004T193000
DTEND;TZID=America/Los_Angeles:20241004T210000
DTSTAMP:20260423T020043
CREATED:20240914T194322Z
LAST-MODIFIED:20241005T001512Z
UID:203-1728070200-1728075600@whidbeyimprov.org
SUMMARY:Improvised Broadway Musical\, with short form openers
DESCRIPTION:Welcome to Musical Improv at the Black Box! Each performance of the entirely made up\, improvised Broadway musical style show\,  is in reality A Premiere of a never-before-seen musical\, that  YOU the audience help create with your amazing suggestions.Each night we will ask the  audience for a suggestion  to help us create the title of a musical that doesn’t yet exist. Past audiences have helped to create shows like “It Moved to Outer Space” or “Good Things Happening to Bad People”\,  we can’t wait to see what you think of next! Join us for an evening of fun\, fun\, fun as we make up  the characters\,  the plot\,  the singing the  dancing\, everything is completely improvised and will never be seen again! How fun is that! \nThe show will open with some musical short form games. hope to see you there! \n 
URL:https://whidbeyimprov.org/event/improvised-broadway-musical-with-short-form-openers/
LOCATION:OutCast Black Box Theater\, 819 Camano Ave.\, Langley\, WA\, 98260\, United States
CATEGORIES:Shows
ORGANIZER;CN="Carol Dean":MAILTO:info@whidbeyimprov.org
END:VEVENT
BEGIN:VEVENT
DTSTART;TZID=America/Los_Angeles:20241005T193000
DTEND;TZID=America/Los_Angeles:20241005T210000
DTSTAMP:20260423T020043
CREATED:20241005T000004Z
LAST-MODIFIED:20241005T222726Z
UID:302-1728156600-1728162000@whidbeyimprov.org
SUMMARY:Student ticket
DESCRIPTION:These are the tickets for the performers\, their families\, and Wica improv students or Whidbey Improv Students\, For Friday or Saturday night.  Or if you need a sliding scale ticket. \n  \n 
URL:https://whidbeyimprov.org/event/student-partner-musical-improv-tickets-for-fri-sat-night/
LOCATION:OutCast Black Box Theater\, 819 Camano Ave.\, Langley\, WA\, 98260\, United States
CATEGORIES:Shows
ORGANIZER;CN="Carol Dean":MAILTO:info@whidbeyimprov.org
END:VEVENT
BEGIN:VEVENT
DTSTART;TZID=America/Los_Angeles:20241005T193000
DTEND;TZID=America/Los_Angeles:20241006T210000
DTSTAMP:20260423T020043
CREATED:20240914T202237Z
LAST-MODIFIED:20241005T222831Z
UID:208-1728156600-1728248400@whidbeyimprov.org
SUMMARY:Musical Improv Extravaganza
DESCRIPTION:Welcome to Musical Improv at the Black Box! Each performance of the entirely made up\, improvised Broadway musical style show\,  is in reality A Premiere of a never-before-seen musical\, that  YOU the audience help create with your amazing suggestions.Each night we will ask the  audience for a suggestion  to help us create the title of a musical that doesn’t yet exist. Past audiences have helped to create shows like “It Moved to Outer Space” or “Good Things Happening to Bad People”\,  we can’t wait to see what you think of next! Join us for an evening of fun\, fun\, fun as we make up  the characters\,  the plot\,  the singing the  dancing\, everything is completely improvised and will never be seen again! How fun is that! \nThe show will open with some musical short form games. hope to see you there!
URL:https://whidbeyimprov.org/event/musical-improv-extravaganza/
LOCATION:OutCast Black Box Theater\, 819 Camano Ave.\, Langley\, WA\, 98260\, United States
CATEGORIES:Shows
END:VEVENT
BEGIN:VEVENT
DTSTART;TZID=America/Los_Angeles:20241017T190000
DTEND;TZID=America/Los_Angeles:20241017T200000
DTSTAMP:20260423T020043
CREATED:20240820T085947Z
LAST-MODIFIED:20240927T172820Z
UID:146-1729191600-1729195200@whidbeyimprov.org
SUMMARY:Whidbey Improv Jam
DESCRIPTION:Join us for an hour of  live Improv at the Outcast Black Box theater. We will amuse and entertain with short form improv games. Warm up for those wanting to perform starts at 5:30 pm\, The Show is from 7 – 8 pm \n  \nWanting to learn improv? Try our improv classes…  Wanting to perform improv? Contact Carol at info@whidbeyimprov.org.
URL:https://whidbeyimprov.org/event/whidbey-improv-jam-2/
LOCATION:OutCast Black Box Theater\, 819 Camano Ave.\, Langley\, WA\, 98260\, United States
CATEGORIES:Shows
ORGANIZER;CN="Carol Dean":MAILTO:info@whidbeyimprov.org
END:VEVENT
BEGIN:VEVENT
DTSTART;TZID=America/Los_Angeles:20241024T190000
DTEND;TZID=America/Los_Angeles:20241024T200000
DTSTAMP:20260423T020043
CREATED:20240812T192141Z
LAST-MODIFIED:20241021T205106Z
UID:127-1729796400-1729800000@whidbeyimprov.org
SUMMARY:Whidbey Improv Jam
DESCRIPTION:Join us for an hour of  live Improv at the Outcast Black Box theater. We will amuse and entertain with short form improv games. Warm up for those wanting to perform starts at 5:30 pm\, The Show is from 7 – 8 pm \n  \nWanting to learn improv? Try our improv classes…  Wanting to perform improv? Contact Carol at info@whidbeyimprov.org. \n  \nBuy tickets here
URL:https://whidbeyimprov.org/event/whidbey-improv-jam/
LOCATION:OutCast Black Box Theater\, 819 Camano Ave.\, Langley\, WA\, 98260\, United States
CATEGORIES:Shows
ATTACH;FMTTYPE=image/png:https://whidbeyimprov.org/wp-content/uploads/2024/10/Broadway-Style-Musical-Improv-Poster.png
ORGANIZER;CN="Carol Dean":MAILTO:info@whidbeyimprov.org
END:VEVENT
END:VCALENDAR