BEGIN:VCALENDAR
VERSION:2.0
PRODID:-//Whidbey Improv - ECPv6.15.16//NONSGML v1.0//EN
CALSCALE:GREGORIAN
METHOD:PUBLISH
X-ORIGINAL-URL:https://whidbeyimprov.org
X-WR-CALDESC:Events for Whidbey Improv
REFRESH-INTERVAL;VALUE=DURATION:PT1H
X-Robots-Tag:noindex
X-PUBLISHED-TTL:PT1H
BEGIN:VTIMEZONE
TZID:America/Los_Angeles
BEGIN:DAYLIGHT
TZOFFSETFROM:-0800
TZOFFSETTO:-0700
TZNAME:PDT
DTSTART:20230312T100000
END:DAYLIGHT
BEGIN:STANDARD
TZOFFSETFROM:-0700
TZOFFSETTO:-0800
TZNAME:PST
DTSTART:20231105T090000
END:STANDARD
BEGIN:DAYLIGHT
TZOFFSETFROM:-0800
TZOFFSETTO:-0700
TZNAME:PDT
DTSTART:20240310T100000
END:DAYLIGHT
BEGIN:STANDARD
TZOFFSETFROM:-0700
TZOFFSETTO:-0800
TZNAME:PST
DTSTART:20241103T090000
END:STANDARD
BEGIN:DAYLIGHT
TZOFFSETFROM:-0800
TZOFFSETTO:-0700
TZNAME:PDT
DTSTART:20250309T100000
END:DAYLIGHT
BEGIN:STANDARD
TZOFFSETFROM:-0700
TZOFFSETTO:-0800
TZNAME:PST
DTSTART:20251102T090000
END:STANDARD
END:VTIMEZONE
BEGIN:VEVENT
DTSTART;TZID=America/Los_Angeles:20241003T193000
DTEND;TZID=America/Los_Angeles:20241003T210000
DTSTAMP:20260421T092658
CREATED:20240914T191813Z
LAST-MODIFIED:20240914T202659Z
UID:197-1727983800-1727989200@whidbeyimprov.org
SUMMARY:Musical Improv 7:30 - 9 pm Showcase
DESCRIPTION:Welcome to Musical Improv at the Black Box Theater. We will have an amazing mix of musical short and long form for you. Everything made up\, on the spot from your suggestions! the night will start with musical short form\, and progress to a broadway musical style  show. Join us for an amazing evening of fun!!
URL:https://whidbeyimprov.org/event/musical-improv-730-9-pm-short-form-show/
LOCATION:OutCast Black Box Theater\, 819 Camano Ave.\, Langley\, WA\, 98260\, United States
CATEGORIES:Shows
ORGANIZER;CN="Carol Dean":MAILTO:info@whidbeyimprov.org
END:VEVENT
END:VCALENDAR