BEGIN:VCALENDAR
VERSION:2.0
PRODID:-//Whidbey Improv - ECPv6.15.16//NONSGML v1.0//EN
CALSCALE:GREGORIAN
METHOD:PUBLISH
X-WR-CALNAME:Whidbey Improv
X-ORIGINAL-URL:https://whidbeyimprov.org
X-WR-CALDESC:Events for Whidbey Improv
REFRESH-INTERVAL;VALUE=DURATION:PT1H
X-Robots-Tag:noindex
X-PUBLISHED-TTL:PT1H
BEGIN:VTIMEZONE
TZID:America/Los_Angeles
BEGIN:DAYLIGHT
TZOFFSETFROM:-0800
TZOFFSETTO:-0700
TZNAME:PDT
DTSTART:20250309T100000
END:DAYLIGHT
BEGIN:STANDARD
TZOFFSETFROM:-0700
TZOFFSETTO:-0800
TZNAME:PST
DTSTART:20251102T090000
END:STANDARD
BEGIN:DAYLIGHT
TZOFFSETFROM:-0800
TZOFFSETTO:-0700
TZNAME:PDT
DTSTART:20260308T100000
END:DAYLIGHT
BEGIN:STANDARD
TZOFFSETFROM:-0700
TZOFFSETTO:-0800
TZNAME:PST
DTSTART:20261101T090000
END:STANDARD
BEGIN:DAYLIGHT
TZOFFSETFROM:-0800
TZOFFSETTO:-0700
TZNAME:PDT
DTSTART:20270314T100000
END:DAYLIGHT
BEGIN:STANDARD
TZOFFSETFROM:-0700
TZOFFSETTO:-0800
TZNAME:PST
DTSTART:20271107T090000
END:STANDARD
END:VTIMEZONE
BEGIN:VEVENT
DTSTART;TZID=America/Los_Angeles:20260110T100000
DTEND;TZID=America/Los_Angeles:20260111T170000
DTSTAMP:20260421T012144
CREATED:20251205T003545Z
LAST-MODIFIED:20251205T222325Z
UID:828-1768039200-1768150800@whidbeyimprov.org
SUMMARY:Genre Workshop with Chazz Kaskes  Jan 10 + 11
DESCRIPTION:Genre Workshops with Guest Improv instructor : Chazz Kaskes. Learn to play genre improv with confidence! \nJoin us for this exciting deep dive into genre work. This workshop is for people who are interested in expanding their horizon past short form scenes and games\, and wanting to tackle a longer form. The class will take a long look at what makes  a genre\, that genre\, and tools and tricks to performing that or any genre.  . This is a 2 day workshop starting on Saturday Jan 10\, and continuing on Sunday Jan 11. Each day will cover 1-2 genres\, with a student production from 4-5 to put into practice the things you have learned. Class is limited to 16 students. You should have some improv experience. \nSaturday  workshop hours: 10:30 – 12:30 (1/2 hour  break for lunch)  1:30 pm – 4 pm  followed at  4  pm – 5 pm\,  in house student show in the theater. \nSunday   workshop hours: 10:30 – 12:30. break for lunch 1:30  pm – 4 pm.  from 4 pm – 5 pm\, in house student show in the theater. \nIncludes a non transferable student ticket for each show on Jan 9\, and Jan 10th 7:30 pm at the Black Box Theater \nprice is $240 + $21.36 tax = 261.36 \nContact Carol if you need permission to do a single day\, and need pricing. \n 
URL:https://whidbeyimprov.org/event/the-five-minute-scene-building-a-narrative-longform-3-2/
LOCATION:OutCast Black Box Theater\, 819 Camano Ave.\, Langley\, WA\, 98260\, United States
CATEGORIES:Classes,Workshops
ORGANIZER;CN="Carol Dean":MAILTO:info@whidbeyimprov.org
END:VEVENT
BEGIN:VEVENT
DTSTART;TZID=America/Los_Angeles:20260110T100000
DTEND;TZID=America/Los_Angeles:20260118T170000
DTSTAMP:20260421T012144
CREATED:20251220T003034Z
LAST-MODIFIED:20251220T003034Z
UID:874-1768039200-1768755600@whidbeyimprov.org
SUMMARY:Both Genre Workshops with Chazz Kaskes  Jan 10 + 11\, and\, Jan 17  + 18
DESCRIPTION:Genre Workshops with Guest Improv instructor : Chazz Kaskes. Learn to play genre improv with confidence! \nWeekend One\, Join us for this exciting deep dive into genre work. This workshop is for people who are interested in expanding their horizon past short form scenes and games\, and wanting to tackle a longer form. The class will take a long look at what makes  a genre\, that genre\, and tools and tricks to performing that or any genre.  . This is a 2 day workshop starting on Saturday Jan 10\, and continuing on Sunday Jan 11. Each day will cover 1-2 genres\, with a student production from 4-5 to put into practice the things you have learned. Class is limited to 16 students. You should have some improv experience. \nSaturday  workshop hours: 10:30 – 12:30 (1/2 hour  break for lunch)  1:30 pm – 4 pm  followed at  4  pm – 5 pm\,  in house student show in the theater. \nSunday   workshop hours: 10:30 – 12:30. break for lunch 1:30  pm – 4 pm.  from 4 pm – 5 pm\, in house student show in the theater. \nIncludes a non transferable student ticket for each show on Jan 9\, and Jan 10th 7:30 pm at the Black Box Theater \nWeekend Two\, while attendance at the first weekend is not mandatory\, this workshop will build on many of the skills learned in the first workshop. Classes during this weekend will bring a spotlight to one or two genres chosen by the students. The afternoon student  performances will be in this chosen genre creating an.opportunity to go through the steps your team might take to choose a genre to make into a show. Join us for this exciting deep dive into genre work.. This is a 2 day workshop starting on Saturday Jan 17\, and continuing on Sunday Jan 18. Each day will cover 1-2 genres\, with a student production from 4-5 each day  to put into practice the things you have learned.  You should have some improv experience. This is appropriate for intermediate to advanced students. \nSaturday  workshop hours: 10:30 – 12:30 (1/2 hour  break for lunch)  1:30 pm – 4 pm  followed at  4  pm – 5 pm\,  in house student show in the theater. \nSunday   workshop hours: 10:30 – 12:30. break for lunch 1:30  pm – 4 pm.  from 4 pm – 5 pm\, in house student show in the theater. \nIncludes a non transferable student ticket for each show on Jan 9\, and Jan 10th 7:30 pm at the Black Box Theater \nBoth workshops :  $390 + 34.32 = $424.32 \nContact Carol if you need permission to do a single day\, and need pricing. \n 
URL:https://whidbeyimprov.org/event/the-five-minute-scene-building-a-narrative-longform-3-2-2/
LOCATION:OutCast Black Box Theater\, 819 Camano Ave.\, Langley\, WA\, 98260\, United States
CATEGORIES:Classes,Workshops
ORGANIZER;CN="Carol Dean":MAILTO:info@whidbeyimprov.org
END:VEVENT
BEGIN:VEVENT
DTSTART;TZID=America/Los_Angeles:20260117T100000
DTEND;TZID=America/Los_Angeles:20260118T170000
DTSTAMP:20260421T012144
CREATED:20251205T005237Z
LAST-MODIFIED:20251205T222257Z
UID:833-1768644000-1768755600@whidbeyimprov.org
SUMMARY:Genre Workshop with Chazz Kaskes  Jan 17  + 18
DESCRIPTION:Genre Workshops with Guest Improv instructor : Chazz Kaskes. Learn to play genre improv with confidence! \nWeekend Two\, while attendance at the first weekend is not mandatory\, this workshop will build on many of the skills learned in the first workshop. Classes during this weekend will bring a spotlight to one or two genres chosen by the students. The afternoon student  performances will be in this chosen genre creating an.opportunity to go through the steps your team might take to choose a genre to make into a show. Join us for this exciting deep dive into genre work.  . This is a 2 day workshop starting on Saturday Jan 17\, and continuing on Sunday Jan 18. Each day will cover 1-2 genres\, with a student production from 4-5 each day  to put into practice the things you have learned.  You should have some improv experience. This is appropriate for intermediate to advanced students.\nSaturday  workshop hours: 10:30 – 12:30 (1/2 hour  break for lunch)  1:30 pm – 4 pm  followed at  4  pm – 5 pm\,  in house student show in the theater. \nSunday   workshop hours: 10:30 – 12:30. break for lunch 1:30  pm – 4 pm.  from 4 pm – 5 pm\, in house student show in the theater. \nIncludes a non transferable student ticket for each show on Jan 9\, and Jan 10th 7:30 pm at the Black Box Theater \nprice is $240 + $21.36 tax = 261.36 \nContact Carol if you need permission to do a single day\, and need pricing. \n 
URL:https://whidbeyimprov.org/event/genre-workshop-with-chazz-kaskes-jan-17-18/
LOCATION:OutCast Black Box Theater\, 819 Camano Ave.\, Langley\, WA\, 98260\, United States
CATEGORIES:Classes,Workshops
ORGANIZER;CN="Carol Dean":MAILTO:info@whidbeyimprov.org
END:VEVENT
END:VCALENDAR